BEGIN:VCALENDAR
VERSION:2.0
PRODID:-//wp-events-plugin.com//7.2.3.1//EN
TZID:Europe/Paris
X-WR-TIMEZONE:Europe/Paris
BEGIN:VEVENT
UID:99@tmnlab.com
DTSTART:20210302T083000Z
DTEND:20210302T093000Z
DTSTAMP:20210506T110141Z
URL:https://www.tmnlab.com/events/webinaire-pratiques-culturelles-et-numer
 iques-apres-un-an-de-crise-sanitaire/
SUMMARY:[webinaire] Pratiques culturelles et numériques après un an de cr
 ise sanitaire
DESCRIPTION:Le mardi 2 mars à 9h30\, l'institut Gece et {CORRESPONDANCES D
 IGITALES] organisent une restitution de leur enquête sur les Pratiques cu
 lturelles et numériques des français après un an de crise sanitaire.\nI
 l y sera évoqué :\n\n 	Le lien des Français aux lieux culturels et\, de
  fait\, son essentialité\, en évoquant l'impact de leurs fermetures sur 
 le moral des français \;\n 	L'usage des ressources et activités en ligne
  proposées par les musées et monuments en cette période mais aussi la f
 açon dont celles-ci seront (re)considérées par les Français à la réo
 uverture de ces lieux.\n 	En conclusion\, focus sur la réception par les 
 Français des projets de médiation à distance afin d'en évoquer la pert
 inence\, la pérennité et la monétisation qui pourrait en être envisag
 ée.\n\nLien vers l'inscription en ligne.
CATEGORIES:Un événement repéré pour vous
END:VEVENT
END:VCALENDAR