BEGIN:VCALENDAR
VERSION:2.0
PRODID:-//wp-events-plugin.com//7.2.3.1//EN
TZID:Europe/Paris
X-WR-TIMEZONE:Europe/Paris
BEGIN:VEVENT
UID:341@tmnlab.com
DTSTART;TZID=Europe/Paris:20250626T100000
DTEND;TZID=Europe/Paris:20250626T120000
DTSTAMP:20250613T083422Z
URL:https://www.tmnlab.com/events/webinaire-odia-normandie-la-massificatio
 n-des-usages-numeriques-a-des-fins-de-loisirs-quel-defi-pour-le-service-pu
 blic-du-spectacle-vivant/
SUMMARY:[Webinaire ODIA Normandie] La massification des usages numériques 
 à des fins de loisirs :  quel défi pour le service public du spectacle v
 ivant ?
DESCRIPTION:Les usages numériques sont désormais des incontournables de n
 os pratiques culturelles. Ils redéfinissent en profondeur les façons de 
 créer\, de collaborer\, de s’informer et de partager… autrement dit\,
  d’activer nos droits culturels… Quels défis posent-ils aux professi
 onnel·les agissant dans le giron du service public du spectacle vivant ? 
 Comment les prendre concrètement en compte sur le terrain ?\n\nCe webinai
 re imaginé par l'ODIA Normandie marque le début d’un nouveau cycle qui
  vise à se ressourcer collectivement et à interroger ensemble nos pratiq
 ues professionnelles. Un cycle pour prendre du recul et repartir avec des 
 pistes et outils pour agir.\n\nAu programme de ce webinaire introductif :\
 n\nLes 3 grands enjeux au cœur de ce cycle :\nLes récits\, la participat
 ion\, l’accessibilité.\n\nAvec trois intervenant·es agissant en Norman
 die\, pour nourrir la discussion à partir de leurs expériences de terrai
 n :\n\n 	Simon Fleury\, directeur de DSN\, Scène Nationale de Dieppe\n 	C
 harlotte Lecourt\, coordinatrice de la Microfolie d’Argentan\n 	Luc Brou
 \, référent normand du réseau Hacnum et chargé de mission à Oblique/s
 \n\nLe TMNlab est partenaire de ce cycle aux côtés de Culture Pixelle\, 
 structure engagée pour une culture numérique critique et inclusive.\n\nP
 our qui ?\n\nLes directions de structures culturelles\, les personnes en c
 harge de la programmation\, de la communication\, du développement des pu
 blics\, de l'action culturelle\, les artistes porteur·euses de projet\, l
 es directions de services culturels de collectivité exerçant dans la ré
 gion Normandie et d'ailleurs ! Le formulaire demande le département en No
 rmandie mais c'est ouvert à toutes et tous !\n\nInscription indispensable
ATTACH;FMTTYPE=image/jpeg:https://www.tmnlab.com/wp-content/uploads/2025/0
 6/c858ead0036f9db20ebaa7b4a51e4728cdbfff37b429f5c3a2bf004f4a2ee3f7.png
CATEGORIES:Une intervention du TMNlab
END:VEVENT
BEGIN:VTIMEZONE
TZID:Europe/Paris
X-LIC-LOCATION:Europe/Paris
BEGIN:DAYLIGHT
DTSTART:20250330T030000
TZOFFSETFROM:+0100
TZOFFSETTO:+0200
TZNAME:CEST
END:DAYLIGHT
END:VTIMEZONE
END:VCALENDAR