BEGIN:VCALENDAR
VERSION:2.0
PRODID:-//wp-events-plugin.com//7.2.3.1//EN
TZID:Europe/Paris
X-WR-TIMEZONE:Europe/Paris
BEGIN:VEVENT
UID:405@tmnlab.com
DTSTART;TZID=Europe/Paris:20260130T083000
DTEND;TZID=Europe/Paris:20260130T120000
DTSTAMP:20260128T130511Z
URL:https://www.tmnlab.com/events/techne-une-strategie-data-entre-les-medi
 as-et-lindustrie-culturelle-en-france/
SUMMARY:Technè : une stratégie data entre les médias et l'industrie cult
 urelle en France
DESCRIPTION:Dans le cadre du lancement du dataspace culturel français Tech
 nè\, le GESTE et le TMNLab co-organisent avec le cabinet Dazi Avocats (HB
 SS France)\, une matinée consacrée à l’importance et l’opportunité
  de mise en œuvre d’une stratégie data commune entre médias et établ
 issements culturels français\, dans le contexte plus global de réappropr
 iation de la donnée et de la valeur par les médias\, les établissements
  culturels et plus généralement les opérateurs de l’industrie culture
 lle et créative française.\n\nL’événement se tiendra le vendredi 30 
 janvier 2026 de 8h30 à 12h à l’Auditorium du journal Les Échos Le Par
 isien\, Paris 15e. \n\n&#x1f449\; Inscription ici\n&#x1f558\; Programme\n
 8h30 — Accueil des participants\nCafé d’accueil\n8h50 — Présentati
 on\nKeynote - Les Relocalisateurs\, Livre blanc 2025‑2026\n9h00 — Tabl
 e ronde\nInterconnecter les audiences : Affiner la connaissance des public
 s\, mieux les cibler pour une meilleure performance\nIntervenants :\n\n\n 
 	Anne Le Gall\, Directrice générale du TMNLab\n 	Guillaume Niccoloso\, D
 3C &amp\; cofondateur du Dataspace canadien\n 	Hélène Zemmour\, Groupeme
 nt des éditeurs de contenus et de services en ligne (Geste)\n 	Juliette T
 issot Vidal\, Opéra‑Comique - Théâtre national\n 	Fayrouze Masmi-Dazi
 \, Dazi Avocats (HBSS France) (modérateur)\n\n9h50 — Pause\n10h00 — T
 able ronde\nRendre interopérables les systèmes de billetterie : Se réap
 proprier la donnée\, optimiser la distribution et réengager les audience
 s\nIntervenants :\n\n\n 	Walter Costa\, Directeur général TickeTac\n 	É
 ric Leite\, Chaillot Théâtre national de la Danse\n 	Bertrand de Roquefe
 uil\, Korus Ticketing\n 	Thomas Chenevier\, Ideactiv\n 	Sophia Moussaid\, 
 Directrice Générale Festik\n\n10h50 — Pause\n11h00 — Table ronde\nCa
 pitaliser sur les projets adjacents en s’y connectant : Espaces de donn
 ées tourisme\, médias et culturels européens\nIntervenants :\n\n\n 	Arn
 o Pons\, Digital new deal\n 	Frédérik Fabricius\, Kulturdata &amp\; Euro
 pean Audience Data Alliance\n 	Alexandre Leforestier\, TEMS - CEO Panodyss
 ey\n\n11h50 — Clôture\n&nbsp\;\n\n&nbsp\;\n\n&nbsp\;\n\n&nbsp\;\n\n&nbs
 p\;\n\n&nbsp\;\n\n&nbsp\;
ATTACH;FMTTYPE=image/jpeg:https://www.tmnlab.com/wp-content/uploads/2026/0
 1/ea49dabd-932f-4136-a8a6-a23d42c3f26a.png
CATEGORIES:Une intervention du TMNlab
LOCATION:Auditorium du journal Les Échos Le Parisien\, 10 Boulevard de Gre
 nelle\, Paris 15ème\, France
X-APPLE-STRUCTURED-LOCATION;VALUE=URI;X-ADDRESS=10 Boulevard de Grenelle\, 
 Paris 15ème\, France;X-APPLE-RADIUS=100;X-TITLE=Auditorium du journal Les
  Échos Le Parisien:geo:0,0
END:VEVENT
BEGIN:VTIMEZONE
TZID:Europe/Paris
X-LIC-LOCATION:Europe/Paris
BEGIN:STANDARD
DTSTART:20251026T020000
TZOFFSETFROM:+0200
TZOFFSETTO:+0100
TZNAME:CET
END:STANDARD
END:VTIMEZONE
END:VCALENDAR