BEGIN:VCALENDAR
VERSION:2.0
PRODID:-//wp-events-plugin.com//7.2.3.1//EN
TZID:Europe/Paris
X-WR-TIMEZONE:Europe/Paris
BEGIN:VEVENT
UID:390@tmnlab.com
DTSTART;TZID=Europe/Paris:20251211T140000
DTEND;TZID=Europe/Paris:20251211T170000
DTSTAMP:20251127T162601Z
URL:https://www.tmnlab.com/events/restitution-de-laugures-lab-numerique-re
 sponsable-2025/
SUMMARY:Restitution de l'Augures Lab numérique responsable 2025
DESCRIPTION:La restitution des travaux de l'édition 2025 du programme de r
 echerche-action dédié au numérique responsable dans le secteur culturel
  se tiendra le jeudi 11 décembre 2025 de 14h à 17h dans la salle de cin
 éma du Musée du Quai Branly – Jacques Chirac.\n\nCette année\, les th
 ématiques étaient les suivantes : "IA Générative"\, "Écologie de l
 ’attention"\, "Conformité réglementaire"\n&gt\; s’inscrire à l'év
 énement en présentiel ou à distance &lt\;\n(une transmission en direct 
 prévue)\nProgramme\n\n 	Présentation rapide de la méthodologie de reche
 rche-action.\n 	Échanges croisés sur les problématiques du numérique c
 ulturel soutenable et les solutions en libre accès conçues au sein de l'
 édition 2025 du Lab (IA Générative - Écologie de l’attention - Confo
 rmité réglementaire).\n 	Conclusion &amp\; perspectives.\n 	Fin des éch
 anges prévue à 17h\, pour les volontaires la discussion se prolongera da
 ns un café voisin.\n\nQu'est-ce que l'Augures Lab Numérique Responsable 
 dans la Culture ?\n\nPour la 4e année consécutive\, 19 acteurs culturels
  ont collaboré pour concevoir et produire 3 prototypes dont l’objectif 
 commun est de maîtriser les externalités négatives du numérique dans u
 n contexte de transition écologique et sociale.\n\nParticipants 2025 : É
 tablissement public des musées d'Orsay et de l'Orangerie\, Paris Musées\
 , Musée du Louvre\, Universcience\, Ministère de la Culture (Service du 
 Numérique)\, Centre National des Arts Plastiques\, Mucem\, Palais de Toky
 o\, Ville de Bordeaux\, Théâtre Vidy-Lausanne\,  Bibliothèque national
 e de France\, Centre des Monuments Nationaux\, Palais des Beaux Arts de Li
 lle\, Museum National d’Histoire Naturelle\, Musée du Quai Branly - Jac
 ques Chirac\, Pompidou Kanal\, Théâtre de la Monnaie\, Opéra National d
 e Paris\, Théâtre de l’Odéon\, Centre Pompidou\, Opéra National de L
 yon\, Musée des civilisations de l’Europe et de la Méditerranée.\n\nC
 onçu et animé par Les Augures et Ctrl S\, ce Lab est soutenu par le Serv
 ice du Numérique du Ministère de la Culture.\n\nÉdition 2026\n\nL'évé
 nement sera l'occasion de présenter l'édition 2026 de l'Augures Lab num
 érique responsable construite autour de 3 nouvelles thématiques :\n\n 	S
 ites web : enjeux d’écoconception pour le secteur culturel\n 	Robustess
 e : continuité des services culturels numériques\n 	Numérique 2050 : en
 jeux d’adaptation\n\n&gt\; formulaire et plaquette du programme 2026 &lt
 \;
ATTACH;FMTTYPE=image/jpeg:https://www.tmnlab.com/wp-content/uploads/2025/1
 1/augureslab-2025.png
CATEGORIES:Un événement repéré pour vous
LOCATION:Musée du Quai Branly – Jacques Chirac\, 37 Quai Jacques Chirac\
 , Paris\, 75007\, France
X-APPLE-STRUCTURED-LOCATION;VALUE=URI;X-ADDRESS=37 Quai Jacques Chirac\, Pa
 ris\, 75007\, France;X-APPLE-RADIUS=100;X-TITLE=Musée du Quai Branly – 
 Jacques Chirac:geo:0,0
END:VEVENT
BEGIN:VTIMEZONE
TZID:Europe/Paris
X-LIC-LOCATION:Europe/Paris
BEGIN:STANDARD
DTSTART:20251026T020000
TZOFFSETFROM:+0200
TZOFFSETTO:+0100
TZNAME:CET
END:STANDARD
END:VTIMEZONE
END:VCALENDAR