BEGIN:VCALENDAR
VERSION:2.0
PRODID:-//wp-events-plugin.com//7.2.3.1//EN
TZID:Europe/Paris
X-WR-TIMEZONE:Europe/Paris
BEGIN:VEVENT
UID:218@tmnlab.com
DTSTART;TZID=Europe/Paris:20240311T093000
DTEND;TZID=Europe/Paris:20240311T183000
DTSTAMP:20240311T074321Z
URL:https://www.tmnlab.com/events/rencontre-tmnlab-x-hacnum-se-former-a-le
 re-numerique-communs-communautes-et-competences-culturelles/
SUMMARY:Rencontre TMNlab x Hacnum | Se former à l'ère numérique : commun
 s\, communautés et compétences culturelles
DESCRIPTION:Entre hybridations\, mutations et nouveaux langages\, le numér
 ique traverse la société\, devient un fait social et renouvelle aussi bi
 en la création artistique que les pratiques des publics\, les modes de pr
 oduction\, de diffusion\, de communication ou encore les modèles d’affa
 ires. Comment poursuivre nos missions dans un contexte où les évolutions
  et les ruptures technologiques imposent leur rythme et leur logique ?\n\n
 Lundi 11 mars\, TMNlab et HACNUM\, coauteur du diagnostic « Cunuco Lab\, 
 le Co-Lab des Cultures numériques » paru en décembre 2023\, organisent 
 une journée de débats\, témoignages et prospectives autour des résulta
 ts du diagnostic et des perspectives pour le secteur.\n\nUne journée anim
 ée par Céline Berthoumieux\, déléguée générale du Réseau Hacnum\nA
 nne Le Gall\, déléguée générale du TMNlab\nEmmanuel Vergès\, codirec
 teur de l'Observatoire des Politiques Culturelles\n\nOrganisée en partena
 riat avec l'AFDAS et l'Observatoire des politiques culturelles\nMatinée :
  Accompagner la création artistique à l’ère numérique\, quelles comp
 étences ?\n9h30 : accueil café\n\n10h : Introduction\n\nMot d'accueil pa
 r Ninon Leclère\, codirectrice du Théâtre Silvia Monfort\, Marion Franq
 uet\, présidente du TMNlab\, et Géraldine Taillandier\, coprésidente du
  Réseau Hacnum\n\nLa culture est-elle encore un secteur d’avenir ?\nKey
 note par Anne Le Gall\, déléguée générale du TMNlab\, et Céline Bert
 houmieux\, déléguée générale du Réseau Hacnum\n\nFocus sur le progra
 mme France 2030\npar Constance de Villèle\, Chargée de projets PIA « cu
 lture\, patrimoine et numérique » à la Caisse des Dépôts\n\n10h30 : R
 egards des artistes sur les nouvelles compétences pour le secteur\n\n 	Co
 rinne Linder\, directrice de création pour des expériences immersives en
 tre cirque\, théâtre immersif et art numérique\, compagnie Fheel Concep
 t\n 	Emilie-Anna Maillet\, autrice et metteuse en scène\, compagnie Ex Vo
 to à la lune\, pédagogue\, créatrice du projet théâtral transmédia C
 rari or not crari\n 	Nicolas Rosette\, Coordinateur du programme Chimères
  au Lieu Unique et au Théâtre Nouvelle Génération\n 	Orianne Vilmer\, 
 chorégraphe\, cofondatrice et présidente de La Fabrique de la Danse\, di
 rectrice artistique de la compagnie Osmium.\n\n11h30 : Le Diagnostic Cunuc
 o Lab\, analyse collective\n\n\nPrésentation des points clés du rapport\
 nTable-ronde inversée menée par et avec les publics présents dans la sa
 lle\n\n13h Pause déjeuner\nAprès-midi : Se former en commun ? Les logiqu
 es de communautés apprenantes\n14h30 : Quelles conditions pour une organi
 sation apprenante du point de vue des sciences cognitives ?\n\n\nKeynote d
 e Alice Latimier\, Docteure en psychologie cognitive\, spécialiste de l'o
 ptimisation de l'apprentissage\, consultante scientifique chez Cog'X\n\n14
 h45 : Vers des logiques d’écosystèmes apprenants - table-ronde\n\n\nQu
 el constat aujourd'hui quant à la formation dans un monde numérique ? Qu
 els diagnostics et quelles perspectives en matière d'offres et de politiq
 ues publiques ?\n\n 	Jack Aubert\, Directeur Général Adjoint de l'AFDAS\
 n 	Romain Delassus\, Chef du Service du numérique au Ministère de la Cul
 ture\n 	Orianne Ledroit\, déléguée générale de EdTech France\, enseig
 nante à Sciences Po dans l'Executive Master Digital Humanities\n\n16h : C
 onstruire des modèles apprenants - présentations de projets inspirants\n
 \n\n 	Jérôme Villeneuve\, Directeur de l'Hexagone - Scène Nationale de 
 Meylan\n 	Marie Picard\, directrice des Ateliers Pixelle\, coconceptrice d
 e la formation Culture Pixelle\n 	Maryse Gervais\, directrice de projet ch
 ez Projet Collectif\, coordinatrice du RADN - Réseau des Agent.es de Dév
 eloppement culturel Numérique du Québec [en visio]\n 	Philippe Petitqueu
 x\, délégué régional aux technologies de l'information et de la commun
 ication\, DRAFF Normandie\, coordinateur du projet Acoustice (open badge e
 t formation numérique) [en visio]\n\nDialogue conclusif\n17h : Regards cr
 oisés sur une journée d'échanges\n\n\n 	Olivier Alexandre\, chercheur\,
  CNRS - Laboratoire Internet &amp\; Société\, coauteur de La culture fac
 e aux défis du numérique et de la crise\, notes du conseil d’analyse 
 économique\, et auteur de La Tech - Quand la Silicon Valley refait le mon
 de (Seuil\, 2023)\n 	Camille Jutant\, maîtresse de conférences en Scienc
 es de l'information et de la communication\, responsable du master DPACI (
 Développement de projets artistiques et culturels internationaux) à l'IC
 OM - Université Lumière Lyon 2\, co-autrice de Le Dire et l’Agir cultu
 rels - Politique de la Culture\, La médiation aux marges : circulation de
 s savoirs et cultures subalternes en ligne pour la revue de l'Observatoire
  des Politiques Culturelles ou autrice de Le « devenir média »\, une ex
 périmentation des institutions culturelles pour la Revue Nectar\n\n\nSuiv
 i d'un temps convivial au bar du théâtre.\n\n&nbsp\;\n\nLa journée sera
  documentée et l'ensemble des ressources seront publiées sur TMNlab.com\
 n\n--\n\nLa réalisation du diagnostic Cunuco Lab a été soutenue par l
 ’État dans le cadre du programme «Compétences et Métiers d’Avenir 
 » du Programme d’investissements d’avenir\, opéré par la Caisse des
  Dépôts (La Banque des Territoires).
ATTACH;FMTTYPE=image/jpeg:https://www.tmnlab.com/wp-content/uploads/2023/1
 2/Evenement-cunucolab2024.png
CATEGORIES:Un événement organisé par le TMNlab
LOCATION:Théâtre Silvia Monfort\, 106 rue Brancion\, Paris\, 75015\, Fran
 ce
GEO:48.8301506;2.3017242999999326
X-APPLE-STRUCTURED-LOCATION;VALUE=URI;X-ADDRESS=106 rue Brancion\, Paris\, 
 75015\, France;X-APPLE-RADIUS=100;X-TITLE=Théâtre Silvia Monfort:geo:48.
 8301506,2.3017242999999326
END:VEVENT
BEGIN:VTIMEZONE
TZID:Europe/Paris
X-LIC-LOCATION:Europe/Paris
BEGIN:STANDARD
DTSTART:20231029T020000
TZOFFSETFROM:+0200
TZOFFSETTO:+0100
TZNAME:CET
END:STANDARD
END:VTIMEZONE
END:VCALENDAR