BEGIN:VCALENDAR
VERSION:2.0
PRODID:-//wp-events-plugin.com//7.2.3.1//EN
TZID:Europe/Paris
X-WR-TIMEZONE:Europe/Paris
BEGIN:VEVENT
UID:384@tmnlab.com
DTSTART;TZID=Europe/Paris:20260121T183000
DTEND;TZID=Europe/Paris:20260121T220000
DTSTAMP:20260121T120929Z
URL:https://www.tmnlab.com/events/open-tmnlab-nantes-un-off-des-bis-une-de
 couverte-joyeuse-de-mixt/
SUMMARY:Open TMNlab Nantes : un off des BIS\, une découverte joyeuse de Mi
 xt
DESCRIPTION:A l'issue de la première journée professionnelle des Biennale
 s Internationales du Spectacle 2026 organisée à la Cité des Congrès de
  Nantes et au Lieu Unique\, à laquelle l'équipe du TMNlab propose des re
 ndez-vous et vous attend\, nous vous donnons rendez-vous pour échanger su
 r cette rentrée\, vos enjeux professionnels\, ce que vous retenez de la j
 ournée... mais pas seulement !\n\nEn effet\, nous serons accueillis à Mi
 xt - Terrain d'arts en Loire-Atlantique\, issu de la fusion du Grand T et 
 de Musique et danse en Loire-Atlantique\, qui vient d'ouvrir ses portes ap
 rès 3 ans de travaux. Un lieu unique\, polymorphe\, vivant - et gourmand 
 avec son resto-bar Qui Som !\n\nC'est une très belle occasion de découvr
 ir ce tout nouveau lieu et son projet en compagnie de Catherine Blondeau\,
  sa directrice\, et l'équipe - dont des membres historiquement très inve
 sties au TMNlab\, Juliette Kaplan\, Lydia Rodriguez et Marion Napoly Arpin
 .\n\n_\nProgramme\n18h30 Rendez-vous au bar Qui Som de Mixt avec l'équipe
  du TMNlab\n\n19h Rencontre avec Catherine Blondeau\, qui présentera le p
 rojet et la notion de permaentreprise artistique et culturelle\n\n19h30 Vi
 site de Mixt avec les équipes\n\n20h Retour au bar pour poursuivre les é
 changes informels\n\nPossibilité de manger (tapas) sur place.\nChacun rè
 gle ses consommations.\n\nC'est ouvert à toutes et tous\, que vous soyez 
 ou non membre de la Communauté.\n\nInscrivez-vous pour que l'équipe ait 
 une idée du nombre de personnes (notamment pour la visite).\nLes non insc
 rit.es seront les bienvenues dans la limite des places disponibles.\n\n_\n
 \nLes Open TMNlab : l'apéro itinérant.\n\nUn apéritif grand ouvert pour
  permettre de se rencontrer et d'échanger - en vrai - autour d'un intér
 êt commun et d'un verre. Un rendez-vous ouvert à tous qu'on soit ou non 
 membre du TMNlab\, qu'on soit ou non expert.e du spectacle vivant. Un form
 at itinérant\, à Paris\, à Marseille\, à Lyon\, à Rennes... et si pos
 sible dans un bar de théâtre.
ATTACH;FMTTYPE=image/jpeg:https://www.tmnlab.com/wp-content/uploads/2025/1
 1/OPENTMNlab-2026-Nantes.png
CATEGORIES:Un événement organisé par le TMNlab
LOCATION:Mixt - Terrain d'arts en Loire-Atlantique\,  49 rue du Coudray\, N
 antes\, 44000\, France
X-APPLE-STRUCTURED-LOCATION;VALUE=URI;X-ADDRESS= 49 rue du Coudray\, Nantes
 \, 44000\, France;X-APPLE-RADIUS=100;X-TITLE=Mixt - Terrain d'arts en Loir
 e-Atlantique:geo:0,0
END:VEVENT
BEGIN:VTIMEZONE
TZID:Europe/Paris
X-LIC-LOCATION:Europe/Paris
BEGIN:STANDARD
DTSTART:20251026T020000
TZOFFSETFROM:+0200
TZOFFSETTO:+0100
TZNAME:CET
END:STANDARD
END:VTIMEZONE
END:VCALENDAR