BEGIN:VCALENDAR
VERSION:2.0
PRODID:-//wp-events-plugin.com//7.2.3.1//EN
TZID:Europe/Paris
X-WR-TIMEZONE:Europe/Paris
BEGIN:VEVENT
UID:392@tmnlab.com
DTSTART;TZID=Europe/Paris:20260109T140000
DTEND;TZID=Europe/Paris:20260110T193000
DTSTAMP:20251210T144510Z
URL:https://www.tmnlab.com/events/open-factory9-levenement-de-lincubateur-
 104factory/
SUMMARY:Open Factory#9 - l'événement de l'incubateur 104factory
DESCRIPTION:104factory\, l’incubateur des entreprises culturelles et cré
 atives du CENTQUATRE-PARIS présente la 9e édition d’Open Factory : un 
 évènement innovant d’art\, de culture et de créativité ouvert à tou
 tes et tous pour découvrir ou tester des innovations autour de la musique
 \, du livre\, des arts numériques\, de la médiation ou de l'audiovisuel.
 \n\nRetrouvez-nous les 9 et 10 janvier pour découvrir les entreprises acc
 ompagnées et échanger avec notre équipe ! \n\nDeux jours pour découvr
 ir\, expérimenter et échanger autour des innovations artistiques\, cultu
 relles et numériques qui repensent nos manières de créer\, de produire 
 et de vivre ensemble.\n\n&#x2728\; Au programme d’Open Factory #9 :\n\n 
 	Des coachings flash menés par les équipes de 104factory\n 	Des confére
 nces inspirantes pour décrypter les tendances de l’innovation culturell
 e\n 	Des expérimentations\, des prototypes et expositions\n 	Des ateliers
  pratiques pour tester et découvrir de nouvelles approches\n\n&#x1f517\; 
 Pour en savoir plus : https://www.104factory.fr/open-factory/\n\n&#x1f39f\
 ;&#xfe0f\; Inscrivez-vous ICI et venez à notre rencontre ! \n\n&#x1f4c5\
 ; Vendredi 9 janvier &amp\; Samedi 10 janvier 2026\n&#x1f4cd\; CENTQUATRE-
 PARIS\, 5 Rue Curial\, 75019 Paris
ATTACH;FMTTYPE=image/jpeg:https://www.tmnlab.com/wp-content/uploads/2025/1
 2/Banniere-1380x720px-fond-gris-clair-1.png
CATEGORIES:Un événement repéré pour vous
LOCATION:CENTQUATRE-PARIS\, 5 rue Curial\, Paris\, 75019\, France
X-APPLE-STRUCTURED-LOCATION;VALUE=URI;X-ADDRESS=5 rue Curial\, Paris\, 7501
 9\, France;X-APPLE-RADIUS=100;X-TITLE=CENTQUATRE-PARIS:geo:0,0
END:VEVENT
BEGIN:VTIMEZONE
TZID:Europe/Paris
X-LIC-LOCATION:Europe/Paris
BEGIN:STANDARD
DTSTART:20251026T020000
TZOFFSETFROM:+0200
TZOFFSETTO:+0100
TZNAME:CET
END:STANDARD
END:VTIMEZONE
END:VCALENDAR