BEGIN:VCALENDAR
VERSION:2.0
PRODID:-//wp-events-plugin.com//7.2.3.1//EN
TZID:Europe/Paris
X-WR-TIMEZONE:Europe/Paris
BEGIN:VEVENT
UID:81@tmnlab.com
DTSTART;TZID=Europe/Paris:20201102T094500
DTEND;TZID=Europe/Paris:20201102T170000
DTSTAMP:20201101T124939Z
URL:https://www.tmnlab.com/events/les-rencontres-tmnlab-19-ecologie-et-eth
 ique-numerique-quelle-responsabilite/
SUMMARY:WEBINAIRE - Les Rencontres TMNlab #19 : Écologie et éthique numé
 rique\, peut-on mener une transformation numérique responsable des théâ
 tres ?
DESCRIPTION:Le TMNlab accompagne depuis 7 ans les professionnels des théâ
 tres dans leur compréhension des enjeux du numérique et vers la transfor
 mation digitale du secteur. Mais cette transformation\, souvent perçue à
  tort comme un bénéfice écologique\, notamment via la dématérialisati
 on\, et humain\, via la simplification et l'empowerment\, laisse une lourd
 e empreinte.\nL'Agenda 21 de la culture date de 2004... et alors que\, fac
 e à l'urgence\, 2019 a été l’occasion de mobilisations sans précéde
 nt partout dans le monde\, le sujet revient au cœur des débats portés p
 ar les artistes et par les institutions. Des compagnies comme celle de Jé
 rôme Bel prennent des engagements forts pour réduire leur impact carbone
 \, la transition est au cœur de nouveaux projets comme Slow danse\, La Tu
 rbine ou celui de La Maison des Métallos\, La Colline publie ses engageme
 nts environnementaux…\n\nEt dans ce mouvement\, le numérique soulève d
 es questions spécifiques\, parfois peu identifiées.\n\nNous avons donc c
 hoisi aujourd’hui de traiter la question du numérique sous l’angle de
  la transition écologique et de la responsabilité sociétale\, éthique.
  Parce que nous pouvons mener\, ensemble\, une transformation numérique r
 esponsable de nos structures.\nProgramme de la journée\nA 16h\, nous prop
 osons une session complémentaire\, "Confinement et communauté : comment 
 le TMNlab peut soutenir ses membres pendant les semaines à venir ?"\nPour
  accéder au webinaire : un lien sera envoyé durant le week-end aux parti
 cipants ayant validés leur inscription.\n9h45 - Introduction\n\n\n10h - #
 1 - Comprendre le poids écologique et éthique du numérique\nComment le 
 numérique\, loin de dématérialiser\, pèse lourdement sur la planète ?
  Greenwashing\, écologie de l'attention\, droit à la déconnexion : et d
 'un point de vue éthique\, quelles sont les points de vigilance liés au 
 numérique ? Développer sa culture numérique c'est aussi en comprendre l
 a face sombre. Si le numérique "zéro impact" n'existe pas\, aller vers u
 ne modération numérique est possible.\n\nAvec Bela Loto\, cofondatrice d
 e Point de M.I.R. Maison de l'Informatique Responsable.\n\n11h - #2 - Chan
 ger nos lieux et nos usages face au numérique\n\nConcrètement\, quels so
 nt les recommandations à suivre ? Quelles démarches entreprendre au sein
  de nos théâtres ? Nous poursuivrons l'échange en mettant également en
  perspective les recommandations de l'Institut du Numérique Responsable e
 t de l'ADEME\, ainsi que les différentes démarches d'accompagnements pos
 sibles.\n\nAvec Bela Loto\, cofondatrice de Point de M.I.R. Maison de l'In
 formatique Responsable. Et les témoignages du Grand T\, de La Colline et 
 de La Gaîté Lyrique autour de la place naissante du numérique dans leur
  processus RSE (responsabilité sociale de l'entreprise)\n14h - #3 - Déve
 lopper une vision sectorielle de la sobriété numérique\nDe nombreuses r
 ecommandations dépassent largement la sphère interne de nos lieux. Les t
 héâtres sont souvent de petites organisations\, leur impact doit aussi s
 e penser à l'échelle du secteur du spectacle vivant. Quels sont les levi
 ers efficaces aujourd'hui ? Devenir acteur de mutualisation ? Favoriser l'
 essor des communs numériques ? Peser par nos choix d'investissement sur u
 ne responsabilisation des partenaires ?\n\nAvec Maxime Guedj\, consultant\
 , ex directeur de la stratégie numérique du magazine Ebdo\, co-auteur du
  livre Déclic\, comment profiter du numérique sans tomber dans le piège
  des géants du web et Isabelle Reusa\, directrice de VideoMuseum\, membr
 e des API Days\, précédemment en charge du Challenge Sobriété Numériq
 ue\n15h - #4 - Imaginer l’innovation dans un contexte de sobriété\n\nL
 e numérique reste incontournable à de nombreux égards. Nous avons évoq
 ué comment en avoir une approche plus sobre\, plus responsable. Peut-on m
 ieux innover avec le numérique ? Quelles pistes sont explorées aujourd'h
 ui pour réduire l'empreinte du numérique dans l'innovation ? Et pour uti
 liser ce numérique au service d'enjeux écologiques ?\n\nAvec Ezra\, dire
 cteur artistique de la Cie Organic Orchestra\, Francesco Cingolani\, cofon
 dateur de Design by Data\, Volumes Coworking et Fab City Grand Paris\, par
 ticipant au projet Reflow dans programme européen de recherche action H20
 20\, Dominique Karadjian\, consultante intelligence économique &amp\; vei
 lle prospective\, co-organisatrice de Ethics By Design 2020\, Responsable 
 Designers Ethiques Paris\n16h - #5 - S'entraider pendant le confinement\nD
 ans cette dernière partie\, nous vous proposons un temps d'échanges sur 
 ce que la communauté TMNlab peut nous apporter à tous pendant les semain
 es à venir. Alors que lors du premier confinement\, les besoins d'échang
 es étaient nombreux mais l'équipe bénévole trop sollicitée sur le ter
 rain pour animer activement la communauté\, nous serons rejoints\, en nov
 embre\, par un chef de projet Communauté\, présent lors de ce temps d'é
 change. Cela va considérablement changer notre capacité à aider les mem
 bres du réseau. Imaginons ensemble les actions à mener pendant ce nouvea
 u confinement.\n\nInscription indispensable.\nVous aurez accès à la rés
 ervation quand vous serez connecté à votre profil.\n\nMODALITÉS D’AC
 CES\n1) L'accès au rencontre - comme l'inscription sur tmnlab.com - est a
 vant tout réservé aux professionnels travaillant dans des théâtres et 
 lieux de spectacle vivant.\n2) Les membres adhérents bénéficient de la 
 gratuité et d'une priorité de réservation.\n3) L'inscription est nomina
 tive et individuelle. Si vous souhaitez venir à plusieurs\, chacun.e doit
  s'inscrire nominativement.\nSi vous ne travaillez pas dans un lieu de spe
 ctacle vivant ou assimilé\, merci de cliquer ici.
CATEGORIES:Un événement organisé par le TMNlab
LOCATION:La Commune\, centre dramatique national Aubervilliers\, 2 rue Édo
 uard Poisson\, Aubervilliers\, 93300\, France
X-APPLE-STRUCTURED-LOCATION;VALUE=URI;X-ADDRESS=2 rue Édouard Poisson\, Au
 bervilliers\, 93300\, France;X-APPLE-RADIUS=100;X-TITLE=La Commune\, centr
 e dramatique national Aubervilliers:geo:0,0
END:VEVENT
BEGIN:VTIMEZONE
TZID:Europe/Paris
X-LIC-LOCATION:Europe/Paris
BEGIN:STANDARD
DTSTART:20201025T020000
TZOFFSETFROM:+0200
TZOFFSETTO:+0100
TZNAME:CET
END:STANDARD
END:VTIMEZONE
END:VCALENDAR