BEGIN:VCALENDAR
VERSION:2.0
PRODID:-//wp-events-plugin.com//7.2.3.1//EN
TZID:Europe/Paris
X-WR-TIMEZONE:Europe/Paris
BEGIN:VEVENT
UID:140@tmnlab.com
DTSTART;TZID=Europe/Paris;VALUE=DATE:20221010
DTEND;TZID=Europe/Paris;VALUE=DATE:20221012
DTSTAMP:20220615T114357Z
URL:https://www.tmnlab.com/events/journees-dinformatique-theatrale-2022/
SUMMARY:Journées d’Informatique Théâtrale 2022
DESCRIPTION:Le recours aux outils informatiques offre aux artistes de la sc
 ène une palette de possibles dans la création\, en temps réel ou en amo
 nt de la représentation\, d’espaces mouvants\, aléatoires en apparence
 \, dans lesquels les interprètes (acteur.trices\, danseur.ses\, performeu
 r.ses) sont à même d’évoluer voire même de modifier leur environneme
 nt virtuel \; le jeu d’interaction entre interprètes et scénographie s
 ’en trouve modifié\, entraînant aussi de considérables mutations des 
 notions de corporéité et de gestes. En particulier\, les scénographies 
 virtuelles permettent l’immersion des performeur.ses et des spectateur.t
 rices au sein même de l’univers du spectacle\, ce qui ouvre aux artiste
 s des possibilités dramaturgiques nouvelles\, et pose aux informaticien.n
 e.s des problèmes scientifiques inédits.\n\nSi les scénographies virtue
 lles constituent la face visible des usages de l’informatique au théât
 re\, les dramaturgies digitales pourraient en être les ramifications sout
 erraines. Comment l’informatique peut-elle participer de la dramaturgie 
 d’un spectacle&amp\;nbsp\;? Comment les artistes la mettent-ils au servi
 ce de leur propos&amp\;nbsp\;? Les nouveaux usages de l’informatique au 
 théâtre ouvrent également des voies d’écriture et de développement 
 dramaturgique encore peu étudiées.\n\nPour répondre à ces questionneme
 nts\, les Journées francophones d’Informatique Théâtrale souhaitent r
 assembler une communauté de théoricien.nes et de praticien.nes de l’in
 formatique et du théâtre. Pour ces journées\, nous sollicitons des comm
 unications décrivant soit des productions passées\, en cours ou en proje
 t\, alliant informatique et théâtre&amp\;nbsp\;\; soit des réflexions t
 héoriques sur les relations entre informatique et théâtre&amp\;nbsp\;\;
  soit des états de l’art sur des questions de recherche liées aux util
 isations de l’informatique par et pour le théâtre&amp\;nbsp\;\; soit d
 es contributions scientifiques destinées à enrichir l’état de l’art
  en informatique théâtrale.\n\nParmi les thématiques abordées\, nous p
 rivilégierons les partages d’expérience et les contributions technique
 s autour des langages de programmation et des outils de création proposé
 s par les informaticiens aux artistes et techniciens du théâtre \; l’
 analyse des nouvelles scénographies et dramaturgies rendues possibles par
  les innovations techniques de l’informatique théâtrale \; et les ten
 tatives de définition de cette nouvelle discipline\, de ses enjeux scient
 ifiques et artistiques\, et de ses liens avec les domaines voisins de l’
 informatique musicale\, des arts numériques\, du jeu vidéo et de la réa
 lité virtuelle immersive.\n\nUn appel à communication est ouvert jusqu'a
 u 30 juin 2022.\nLe TMNlab vous invite à y participer.\n\nCette deuxième
  édition est organisée par le centre Inria Grenoble Rhône Alpes\, l’E
 NSATT et le laboratoire Passages XX-XXI de l’Univ. Lyon 2. Le comité d
 ’organisation est dirigé par Corinne Touati (Inria) et le comité scien
 tifique par Rémi Ronfard (Inria\, LJK\, Univ. Grenoble Alpes) et Mireille
  Losco-Lena (ENSATT\, Passages XX-XXI\, Univ. Lyon 2). Ces deuxièmes jour
 nées auront lieu à l’ENSATT à Lyon les 10 et 11 octobre 2022\, en pr
 éambule à EXPERIMENTA\, Biennale Arts Sciences 2022\, qui se tiendra du 
 12 au 22 octobre à Grenoble.
ATTACH;FMTTYPE=image/jpeg:https://www.tmnlab.com/wp-content/uploads/2022/0
 6/jit.jpg
CATEGORIES:Un événement repéré pour vous
LOCATION:ENSATT École Nationale Supérieure des Arts et Techniques du Thé
 atre\, 4 Rue Sœur Bouvier\, Lyon\, 69005\, France
X-APPLE-STRUCTURED-LOCATION;VALUE=URI;X-ADDRESS=4 Rue Sœur Bouvier\, Lyon\
 , 69005\, France;X-APPLE-RADIUS=100;X-TITLE=ENSATT École Nationale Supér
 ieure des Arts et Techniques du Théatre:geo:0,0
END:VEVENT
BEGIN:VTIMEZONE
TZID:Europe/Paris
X-LIC-LOCATION:Europe/Paris
BEGIN:DAYLIGHT
DTSTART:20220327T030000
TZOFFSETFROM:+0100
TZOFFSETTO:+0200
TZNAME:CEST
END:DAYLIGHT
END:VTIMEZONE
END:VCALENDAR