BEGIN:VCALENDAR
VERSION:2.0
PRODID:-//wp-events-plugin.com//7.2.3.1//EN
TZID:Europe/Paris
X-WR-TIMEZONE:Europe/Paris
BEGIN:VEVENT
UID:201@tmnlab.com
DTSTART;TZID=Europe/Paris:20231017T090000
DTEND;TZID=Europe/Paris:20231017T170000
DTSTAMP:20230920T092538Z
URL:https://www.tmnlab.com/events/journee-rencontre-dactart-les-pratiques-
 artistiques-et-numeriques-de-la-jeunesse-aujourdhui-ressources-et-interrog
 ations/
SUMMARY:Journée Rencontre d'Act'art : Les pratiques artistiques et numéri
 ques de la jeunesse aujourd’hui - Ressources et interrogations
DESCRIPTION:Le public adolescent est l’un des plus complexes à toucher\,
  capter\, en dehors du cadre scolaire. Comment\, alors\, faut-il appréhen
 der les jeunes\, à quel point faut-il les impliquer dans les projets cult
 urels et valoriser leurs pratiques ? Quelle est la place du numérique dan
 s leurs pratiques et dans leur quotidien ?\n\nL'objectif de cette journée
  est de faire un point d'étape très concret\, avec des méthodes d'intel
 ligence collective\, sur la sociologie de la jeunesse\, ses attentes\, les
  nouvelles pratiques culturelles\, le numérique\, la conception de projet
 s\, et de partager ressources\, idées\, méthodes de travail et d'évalua
 tion\, pour repartir nourris. Un outil numérique de contribution permettr
 a de conserver une trace utile des élaborations produites pendant la jour
 née. Le programme a été co-construit avec Benoît Labourdette\, cinéas
 te\, pédagogue\, chercheur et consultant en innovation culturelle et stra
 tégies numériques.\n\nLa matinée sera consacrée à des transmissions\,
  en mode participatif\, animées par Benoît Labourdette\, Margot Bareyt\,
  chargée des projets d'interactions culturelles au Labo des Cultures\, Au
 drey de Baere\, responsable de la programmation et des relations avec le j
 eune public aux Passerelles\, et Laurène Taravella\, chargée de dévelop
 pement territorial Île-de-France pour le Pass Culture.\nProgramme de la j
 ournée\nL'après-midi sera organisée sous forme de “World Café”\, p
 our œuvrer ensemble à répondre aux besoins des professionnels sur le te
 rritoire\, en co-construisant de la ressource opérante dans les champs de
  la communication\, de la médiation\, des outils numériques :\n\n 	Réfl
 exion pôle NOOM d’Act’art : design fiction – projet avec et pour le
 s jeunes\n 	Méthodologie de communication en direction de la jeunesse - A
 udrey de Baere\n 	Méthodologie de médiation en direction de la jeunesse 
 - Margot Bareyt\n 	Outils/outillage numériques - Benoît Labourdette\n\nC
 ette journée s’inscrit dans une réflexion plus large qu’Act’art so
 uhaite mener sur plusieurs années avec la mise en place d’un projet num
 érique\, plusieurs journées professionnelles et la création d’un rés
 eau de professionnel.le.s.\n\nInscrivez-vous dès maintenant et n’hésit
 ez pas à partager cette invitation à vos collègues.\nInscrivez-vous\nIn
 fos pratiques :\n\n2 formules d’inscription :\n\n 	inscription à la Jou
 rnée Rencontre d’Act’art et repas inclus : 30 €\n 	inscription à l
 a Journée Rencontre d’Act’art : 10 €\n\nLes frais d’inscription s
 ont à régler sur place (chèque ou liquide avec appoint).\n\nNous remerc
 ions la ville de Melun de nous accueillir pour cette Journée Rencontre d
 ’Act’art.\n\nPour toute demande d’informations complémentaires :\n\
 nFederico Bolognesi\nf.bolognesi@actart77.com\n01 64 83 03 31
ATTACH;FMTTYPE=image/jpeg:https://www.tmnlab.com/wp-content/uploads/2023/0
 9/2023_fondation_les_nids_logo-750x500-1.jpg
CATEGORIES:Un événement repéré pour vous
LOCATION:L'Escale - Melun\, Av. de la 7eme Division Blindée Americaine\, M
 elun\, 77000\, France
X-APPLE-STRUCTURED-LOCATION;VALUE=URI;X-ADDRESS=Av. de la 7eme Division Bli
 ndée Americaine\, Melun\, 77000\, France;X-APPLE-RADIUS=100;X-TITLE=L'Esc
 ale - Melun:geo:0,0
END:VEVENT
BEGIN:VTIMEZONE
TZID:Europe/Paris
X-LIC-LOCATION:Europe/Paris
BEGIN:DAYLIGHT
DTSTART:20230326T030000
TZOFFSETFROM:+0100
TZOFFSETTO:+0200
TZNAME:CEST
END:DAYLIGHT
END:VTIMEZONE
END:VCALENDAR