BEGIN:VCALENDAR
VERSION:2.0
PRODID:-//wp-events-plugin.com//7.2.3.1//EN
TZID:Europe/Paris
X-WR-TIMEZONE:Europe/Paris
BEGIN:VEVENT
UID:382@tmnlab.com
DTSTART;TZID=Europe/Paris:20251202T100000
DTEND;TZID=Europe/Paris:20251202T130000
DTSTAMP:20251118T162100Z
URL:https://www.tmnlab.com/events/fabrique-collective-vers-un-socle-commun
 -dinteroperabilite-pour-les-evenements-du-spectacle-vivant/
SUMMARY:Fabrique collective : Vers un cadre commun d’interopérabilité p
 our les données du spectacle vivant
DESCRIPTION:Dans le cadre de l’expérimentation conduite avec le soutien 
 du ministère de la Culture\, le TMNlab organise un atelier ouvert dédié
  à la structuration des données du spectacle vivant.\nCet atelier s’in
 scrit dans la continuité des travaux menés avec plusieurs acteurs du sec
 teur — lieux\, réseaux professionnels\, chercheurs\, développeurs\, pr
 estataires — et a pour objectif d’associer largement les parties prena
 ntes à la construction d’un socle commun d’interopérabilité de la p
 rogrammation\, au service du secteur.\n\nL’atelier\, d’une durée de t
 rois heures en visioconférence\, réunira les acteurs déjà impliqués d
 ans les démarches existantes ainsi que de nouveaux profils identifiés co
 llectivement et des volontaires. Après une présentation de la démarche 
 et du cadre de l’expérimentation\, les participants seront répartis en
  cinq sous-groupes de travail\, correspondant à cinq cas d’usage identi
 fiés.\n\nChaque groupe travaillera à :\n\n 	schématiser les parcours et
  données propres à son cas d’usage \;\n 	formuler les besoins\, freins
  et conditions de réussite \;\n 	esquisser un cadrage technique du protot
 ype à tester et un pré-calendrier d’expérimentation.\n\nCet atelier c
 onstitue une étape clé d’une démarche de terrain\, collaborative et o
 uverte\, pilotée par le TMNlab dans une logique de fabrique collective. I
 l est conçu comme un espace d’échange et de co-construction\, permetta
 nt de documenter les usages réels\, d’identifier les priorités et de n
 ourrir la feuille de route du projet.\n\nDes groupes par cas d’usage ret
 enu seront constitués et réunis pour des temps de travail complémentair
 es entre janvier et mai 2026 pour une livraison des résultats en juillet 
 2026.\n\nL’inscription est ouverte à toutes les structures et personnes
  intéressées par la question des données dans le spectacle vivant.\n\nA
 nimation en binôme : membres du TMNlab et agents du ministère de la Cult
 ure.\n\n--\n\nL’expérimentation s’inscrit dans la continuité des tra
 vaux menés depuis plusieurs années par le TMNlab\, avec le soutien du mi
 nistère de la Culture\, sur la structuration et la mutualisation des donn
 ées du spectacle vivant - Living Lab Numérique situé Ouverture des donn
 ées (2023)\, analyses de projets internationaux de mutualisation de donn
 ées culturelles (2025)\, étude Interopérabilité des systèmes d’info
 rmation dans le spectacle vivant (2025)\, implication puis pilotage du pro
 jet Cap Data Opéra - France 2030 de la Réunion des Opéras de France (20
 22-2026). Elle s’appuie sur une méthode ouverte et collaborative\, asso
 ciant des établissements culturels\, des réseaux professionnels\, des ch
 ercheurs\, des développeurs et des acteurs publics. En savoir plus sur la
  démarche.
ATTACH;FMTTYPE=image/jpeg:https://www.tmnlab.com/wp-content/uploads/2025/0
 8/Fabrique-collective.png
CATEGORIES:Un événement organisé par le TMNlab
LOCATION:https://teams.microsoft.com/l/meetup-join/
END:VEVENT
BEGIN:VTIMEZONE
TZID:Europe/Paris
X-LIC-LOCATION:Europe/Paris
BEGIN:STANDARD
DTSTART:20251026T020000
TZOFFSETFROM:+0200
TZOFFSETTO:+0100
TZNAME:CET
END:STANDARD
END:VTIMEZONE
END:VCALENDAR