BEGIN:VCALENDAR
VERSION:2.0
PRODID:-//wp-events-plugin.com//7.2.3.1//EN
TZID:Europe/Paris
X-WR-TIMEZONE:Europe/Paris
BEGIN:VEVENT
UID:105@tmnlab.com
DTSTART:20210406T180000Z
DTEND:20210406T191500Z
DTSTAMP:20210328T102149Z
URL:https://www.tmnlab.com/events/culture-en-crises-lessor-de-loffre-numer
 ique-va-t-il-durablement-impacter-nos-pratiques/
SUMMARY:Culture en crise(s) : l'essor de l'offre numérique va-t-il durable
 ment impacter nos pratiques ?
DESCRIPTION:La prochaine rencontre du Numeric Lab\, incubateur pour start-u
 p géré et cordonné par le Centre des arts pour la Ville d’Enghien-les
 -Bains\, interroge la culture en crise(s) : l'essor de l'offre numérique 
 va-t-il durablement impacter nos pratiques ?\nMardi 6 avril 2021 à 19h su
 r la page Facebook du CDA\, ce rendez-vous prolongera la discussion entam
 ée avec Dominique Roland lors du café TMNlab consacré à la pérennisat
 ion des bonnes pratiques nées lors de la crise.\nProgramme de l'événeme
 nt sur le site du CDA d'Enghien-les-Bains :\nDésormais un an que la crise
  sanitaire a bouleversé le milieu de la culture et avec lui les usages et
  pratiques de tout un secteur. Pour maintenir l’accès à une offre cult
 urelle en cette période où les lieux culturels restent fermés au public
 \, les acteurs du secteur ont su rebondir\, en inventant de nouvelles form
 es\, en expérimentant de nouveaux contenus.\nDans un milieu qui sacralise
  la présence physique de ses visiteurs\, la culture numérique est devenu
 e la nouvelle norme\, instaurant un nouveau rapport entre artiste / specta
 teur\, acteur culturel / public. Aujourd’hui\, les publics numériques d
 eviennent des publics à part entière. La culture devient accessible à t
 ou.te.s\, à portée de clics.\nDoit-on considérer cette transformation d
 igitale comme provisoire ou plutôt envisager une mixité des offres où d
 igital et physique cohabiteraient durablement ? La crise sanitaire a impac
 té notre mode de vie va-t-elle transformer également notre rapport à la
  culture ?\n
CATEGORIES:Un événement repéré pour vous
END:VEVENT
END:VCALENDAR