BEGIN:VCALENDAR
VERSION:2.0
PRODID:-//wp-events-plugin.com//7.2.3.1//EN
TZID:Europe/Paris
X-WR-TIMEZONE:Europe/Paris
BEGIN:VEVENT
UID:404@tmnlab.com
DTSTART;TZID=Europe/Paris:20260115T090000
DTEND;TZID=Europe/Paris:20260116T183000
DTSTAMP:20251219T081637Z
URL:https://www.tmnlab.com/events/colloque-international-la-mediation-cult
 urelle-en-questions-formation-emploi-et-dynamiques-professionnelle/
SUMMARY:Colloque international - La médiation culturelle en questions : fo
 rmation\, emploi et dynamiques professionnelle
DESCRIPTION:\nLe Département des études\, de la prospective et des statis
 tiques (DEPS) co-organise avec l'Université Sorbonne Nouvelle un colloque
  international les 15 et 16 janvier 2026 consacré aux trajectoires\, prat
 iques concrètes et conditions dans lesquelles médiatrices et médiateurs
  culturel·les exercent leur métier aujourd’hui. \n\nAu programme :\n\
 n 	la formation aux métiers de la médiation culturelle\n 	la place de la
  médiation culturelle dans la division sociale du travail culturel\n 	les
  formes d’emploi des médiatrices et médiateurs culturel·les et leurs 
 évolutions\n 	les activités professionnelles des médiatrices et médiat
 eurs culturel·les.\n\n\nNous attirons votre attention sur les ateliers du
  jeudi 15 janvier matin auxquels participeront deux membres du TMNlab :\n\
 n 	Marion Denizot (Université Rennes 2 / Arts : pratiques et poétiques) 
 animera l'atelier n°1 : "Former des médiateurs et des médiatrices du sp
 ectacle vivant au sein de la filière des études théâtrales : quelles s
 pécificités ?"\n 	Bérengère Voisin (Université Paris 8 / CEMTI) co-an
 imera l'atelier n°3 : "Concevoir\, animer\, encourager des "retours sensi
 bles" après le spectacle : des activités de l’équipe des projets avec
  les publics en lien avec le projet d’établissement de la MC93"\n\n\n&g
 t\; inscriptions &lt\; \n&gt\; programme détaillé &lt\;\n\nContacts :\n
 \n 	prof-mediation@sciencesconf.org\n 	jeanne.lebel@sorbonne-nouvelle.fr\n
 \n\n\n*****\n\n
ATTACH;FMTTYPE=image/jpeg:https://www.tmnlab.com/wp-content/uploads/2025/1
 2/Capture-decran-2025-12-17-a-17.58.48.png
CATEGORIES:Un événement repéré pour vous
LOCATION:Université Sorbonne Nouvelle\, Campus Nation\, 8 Avenue de Saint 
 Mandé\, Paris\, 75012\, France
X-APPLE-STRUCTURED-LOCATION;VALUE=URI;X-ADDRESS=Campus Nation\, 8 Avenue de
  Saint Mandé\, Paris\, 75012\, France;X-APPLE-RADIUS=100;X-TITLE=Universi
 té Sorbonne Nouvelle:geo:0,0
END:VEVENT
BEGIN:VTIMEZONE
TZID:Europe/Paris
X-LIC-LOCATION:Europe/Paris
BEGIN:STANDARD
DTSTART:20251026T020000
TZOFFSETFROM:+0200
TZOFFSETTO:+0100
TZNAME:CET
END:STANDARD
END:VTIMEZONE
END:VCALENDAR