BEGIN:VCALENDAR
VERSION:2.0
PRODID:-//wp-events-plugin.com//7.2.3.1//EN
TZID:Europe/Paris
X-WR-TIMEZONE:Europe/Paris
BEGIN:VEVENT
UID:385@tmnlab.com
DTSTART;TZID=Europe/Paris:20251218T090000
DTEND;TZID=Europe/Paris:20251218T100000
DTSTAMP:20251204T094729Z
URL:https://www.tmnlab.com/events/cafe-tmnlab-ta-premiere-au-theatre-rejoi
 gnez-le-mouvement/
SUMMARY:Café TMNlab | "Ta première au théâtre"\, rejoignez le mouvement
  !
DESCRIPTION:Un nouveau chapitre pour le projet Unlock théâtre ? Ça ne ti
 ent qu'à vous ! Et c'est pour ça que ce rendez-vous en ligne est excepti
 onnellement ouvert au-delà des membres adhérents du TMNlab...\nClaire Cl
 ément et Nathalie Dalmasso\, coordinatrices du projet accompagnées de pl
 usieurs membres du groupe Projet*\, vous donnent rendez-vous jeudi 18 déc
 embre\, de 09h à 10h\, pour un café TMNlab qui ouvre les coulisses du pr
 ojet et vous invite à rejoindre le mouvement derrière le hashtag #taprem
 iereautheatre ! \n\nAu programme :\n\n 	Un bilan du projet et des perspec
 tives\n 	Un aperçu des vidéos publiées\n 	Les retours d’expérience s
 ur la mise en œuvre au sein des structures engagées*\n 	Une invitation :
  vous avez envie de rejoindre le mouvement ? On vous explique tout grâce 
 à une fiche recette du projet et une boîte à outils !\n\nUn projet men
 é avec :\n\n 	La Commune – Centre Dramatique National d’Aubervilliers
  : Laureen Bonnet\, chargée des relations avec les publics et Pauline Via
 tge\, chargée de communication digitale\n 	La Faïencerie – Scène Conv
 entionnée Art en territoire de Creil : Samantha De Roo\, chargée des rel
 ations avec les publics\, et Florence Cassin\, responsable de la communica
 tion\n 	Les Gémeaux\, Scène Nationale de Sceaux : Vanessa Watelet\, secr
 étaire générale et Florian Ribeiro\, attaché de billetterie\, en charg
 e des relations aux spectateurs\n 	Le Lieu Unique- Scène Nationale de Nan
 tes : Bérangère André\, responsable des relations avec les publics et A
 urélie Garzuel\, Responsable de la communication\n 	La Passerelle\, Scèn
 e Nationale de Saint Brieuc : Elisabeth Millet\, chargée des relations av
 ec les publics et Delphine Querbes\, responsable de la communication et Er
 wan Maguet\, attaché à la communication numérique\n 	Le Théâtre d’A
 uxerre – Scène Conventionnée : Claire Clément\, secrétaire général
 e\, Tiphaine Orhan\, relation avec les publics\, communication &amp\; de b
 illetterie et Pauline Delcroix\, chargée des relations avec les publics\n
  	Artcena\, centre national des Arts du cirque et de la rue et du théâtr
 e : Dorothée Burillon\, responsable Ressources et Savoirs\, et Camille Gu
 illé\, Responsable du service communication et relations publiques\n 	Chr
 istine Champneuf et Nathalie Dalmasso\, coordinatrices culturelles indépe
 ndantes\n\n_\nLes cafés TMNlab : 1h\, 1 sujet\, 1 fois par mois… minimu
 m.\n\n\n\nCe rendez-vous en visio est d'habitude réservé aux membres à 
 jour de leur adhésion (à titre individuel ou de leur structure). Nous so
 mmes susceptibles de programmer des cafés supplémentaires en fonction de
  sujets soulevés par la communauté. Vous pouvez également en organiser 
 en commençant par visiter cette page.\n\nMembres d'une structure adhéren
 te ?\nPensez à passer l'info auprès des membres de votre équipe potenti
 ellement intéressé.\n\nLe lien de connexion ainsi que le code secret fig
 urent dans le courriel de confirmation de votre inscription.
ATTACH;FMTTYPE=image/jpeg:https://www.tmnlab.com/wp-content/uploads/2025/1
 1/Cafe-TMNlab-2025.png
CATEGORIES:Un événement organisé par le TMNlab
LOCATION:https://us06web.zoom.us/j/83345293888
END:VEVENT
BEGIN:VTIMEZONE
TZID:Europe/Paris
X-LIC-LOCATION:Europe/Paris
BEGIN:STANDARD
DTSTART:20251026T020000
TZOFFSETFROM:+0200
TZOFFSETTO:+0100
TZNAME:CET
END:STANDARD
END:VTIMEZONE
END:VCALENDAR