BEGIN:VCALENDAR
VERSION:2.0
PRODID:-//wp-events-plugin.com//7.2.3.1//EN
TZID:Europe/Paris
X-WR-TIMEZONE:Europe/Paris
BEGIN:VEVENT
UID:388@tmnlab.com
DTSTART;TZID=Europe/Paris:20260219T090000
DTEND;TZID=Europe/Paris:20260219T100000
DTSTAMP:20251126T153204Z
URL:https://www.tmnlab.com/events/cafe-tmnlab-strategie-communication-mark
 eting/
SUMMARY:Café TMNlab | Où et comment décide-t-on d’aller au théâtre ?
  De l’observation des pratiques à la stratégie com' marketing
DESCRIPTION:La semaine précédente\, l’Association pour le soutien du th
 éâtre privé nous aura présenté son baromètre "Les Français et le th
 éâtre" et on aura posé ensemble la question : "Où et comment décide-t
 -on d’aller au théâtre ?"\n\nRendez-vous jeudi 19 février\, de 09h à
  10h\, pour un café TMNlab opérationnel : après avoir observé les prat
 iques\, on intègre ces enseignements à notre stratégie de communication
  et de marketing ! \n\nAu menu :\n\n 	Comment la plateforme “Audience D
 ata &amp\; Performing Arts” (développée par le TMNlab dans le cadre du
  projet européen Prospero Extended Theatre) nous permet d’étudier le p
 arcours spectateur ?\n 	Comment intégrer immédiatement ces enseignements
  dans une stratégie opérationnelle avec les conseils de Céline Roussea
 u\, Co-fondatrice de l'agence d’ingénierie culturelle Mazette !\n... et
  toutes vos questions !\n\nCe rendez-vous est le 4e et dernier d’un cycl
 e de cafés consacrés aux usages des publics et non publics :\n\n 	04.12
 .25 : Études de publics – comment ? et d’abord… pourquoi ?\n 	05.02
 .26 : Prendre en compte les pratiques culturelles de la jeunesse\n 	12.02.
 26 : Les Français et le théâtre : on est où en 2025 ? Réponse avec l
 ’ASTP\n\n_\nLes cafés TMNlab : 1h\, 1 sujet\, 1 fois par mois… minimu
 m.\n\n\n\nCe rendez-vous en visio est réservé aux membres à jour de leu
 r adhésion (à titre individuel ou de leur structure). Nous sommes suscep
 tibles de programmer des cafés supplémentaires en fonction de sujets sou
 levés par la communauté. Vous pouvez également en organiser en commenç
 ant par visiter cette page.\n\nMembres d'une structure adhérente ?\nPense
 z à passer l'info auprès des membres de votre équipe potentiellement in
 téressé.\n\nLe lien de connexion ainsi que le code secret figurent dans 
 le courriel de confirmation de votre inscription.
ATTACH;FMTTYPE=image/jpeg:https://www.tmnlab.com/wp-content/uploads/2025/1
 1/Cafe-TMNlab-20252.png
CATEGORIES:Un événement organisé par le TMNlab
LOCATION:https://us06web.zoom.us/j/82998619742
END:VEVENT
BEGIN:VTIMEZONE
TZID:Europe/Paris
X-LIC-LOCATION:Europe/Paris
BEGIN:STANDARD
DTSTART:20251026T020000
TZOFFSETFROM:+0200
TZOFFSETTO:+0100
TZNAME:CET
END:STANDARD
END:VTIMEZONE
END:VCALENDAR