BEGIN:VCALENDAR
VERSION:2.0
PRODID:-//wp-events-plugin.com//7.2.3.1//EN
TZID:Europe/Paris
X-WR-TIMEZONE:Europe/Paris
BEGIN:VEVENT
UID:386@tmnlab.com
DTSTART;TZID=Europe/Paris:20260205T090000
DTEND;TZID=Europe/Paris:20260205T100000
DTSTAMP:20251216T130659Z
URL:https://www.tmnlab.com/events/cafe-tmnlab-prendre-en-compte-les-pratiq
 ues-culturelles-de-la-jeunesse/
SUMMARY:Café TMNlab | Prendre en compte les pratiques culturelles de la je
 unesse
DESCRIPTION:Avant même de penser l’éducation artistique et culturelle 
 à l’ère numérique\, il nous faut soigner nos adresses : viser juste\,
  avant que les adolescents ne risquent de « décrocher » des offres cult
 urelles institutionnelles…\n\nPour un aborder cette question\, nous rece
 vons un groupe de travail du Cycle des Hautes Etudes de la Culture (CHEC) 
 (session 24-25) qui a justement travaillé sur cette question vis-à-vis d
 es 16-25 ans\, au moment où cette tranche d'âge est libre dans ses choix
  culturels.\n\n"Les jeunes développent en effet leurs identités culturel
 les à travers une multitude de médias et de formes d'expression\, allant
  des réseaux sociaux aux événements culturels locaux en passant par les
  plateformes de streaming. Moins qu’une véritable désintermédiation\,
  ce à quoi on assiste est à un changement des repères et prescripteurs 
 considérés comme légitimes et intéressants"\, observent-ils.\n\nRendez
 -vous jeudi 5 février 2026\, toujours de 09h à 10h\, pour une présentat
 ion de ce rapport (qui ne sera publié que quelques semaines auparavant) p
 ar celles et ceux qui l’ont rédigé\, en dialogue avec une professionne
 lle de la connaissance des jeunes publics :\n\n 	pour le groupe du CHEC :\
 n\n 	Nadine Baudet\, vice-présidente culture\, communauté de communes Sa
 ône-Beaujolais\n 	Marie-Laure Cherel\, directrice du département dévelo
 ppement des publics et médiation\, Bibliothèque nationale de France\n 	K
 evin Jaglin\, délégué à la culture et directeur du service culturel de
  l’Université Sorbonne Nouvelle\n 	Maxime Leschiera\, directeur du cons
 ervatoire à rayonnement régional de Bordeaux\n\n\n 	Mandy Llamas\, fonda
 trice du cabinet d’études Solea\, spécialisé dans l’analyse des pub
 lics — en particulier les 15–25 ans — l’accompagnement stratégiqu
 e et la formation aux pratiques de la donnée.\n\n... et toutes vos questi
 ons !\n\nCe rendez-vous est le 2e d'un cycle de cafés consacrés aux usag
 es des publics et non publics :\n\n 	04.12.25 : Études de publics – co
 mment ? et d’abord… pourquoi ?\n 	12.02.26 : Les Français et le thé
 âtre : on est où en 2025 ? Réponse avec l’ASTP\n 	19.02.26 : Où et c
 omment décide-t-on d’aller au théâtre ? De l’observation des pratiq
 ues à la stratégie com’ marketing\n\n_\nLes cafés TMNlab : 1h\, 1 suj
 et\, 1 fois par mois… minimum.\n\n\n\nCe rendez-vous en visio est réser
 vé aux membres à jour de leur adhésion (à titre individuel ou de leur 
 structure). Nous sommes susceptibles de programmer des cafés supplémenta
 ires en fonction de sujets soulevés par la communauté. Vous pouvez égal
 ement en organiser en commençant par visiter cette page.\n\nMembres d'une
  structure adhérente ?\nPensez à passer l'info auprès des membres de vo
 tre équipe potentiellement intéressé.\n\nLe lien de connexion ainsi que
  le code secret figurent dans le courriel de confirmation de votre inscrip
 tion.
ATTACH;FMTTYPE=image/jpeg:https://www.tmnlab.com/wp-content/uploads/2025/1
 1/Cafe-TMNlab-20253.png
CATEGORIES:Un événement organisé par le TMNlab
LOCATION:https://us06web.zoom.us/j/85203590352
END:VEVENT
BEGIN:VTIMEZONE
TZID:Europe/Paris
X-LIC-LOCATION:Europe/Paris
BEGIN:STANDARD
DTSTART:20251026T020000
TZOFFSETFROM:+0200
TZOFFSETTO:+0100
TZNAME:CET
END:STANDARD
END:VTIMEZONE
END:VCALENDAR