BEGIN:VCALENDAR
VERSION:2.0
PRODID:-//wp-events-plugin.com//7.2.3.1//EN
TZID:Europe/Paris
X-WR-TIMEZONE:Europe/Paris
BEGIN:VEVENT
UID:453@tmnlab.com
DTSTART;TZID=Europe/Paris:20260625T090000
DTEND;TZID=Europe/Paris:20260625T100000
DTSTAMP:20260416T083948Z
URL:https://www.tmnlab.com/events/cafe-tmnlab-le-no-code-en-action-comment
 -le-phenix-et-le-theatre-senart-optimisent-organisation-et-billetterie/
SUMMARY:Café TMNlab | Le No-code en action : comment le Phénix et le Thé
 âtre-Sénart optimisent organisation et billetterie
DESCRIPTION:Le « No code » ? Tout est dans le titre : il s’agit de cré
 er et de déployer des logiciels sans écrire de code informatique\, grâc
 e à l’utilisation de plateformes de développement. Le TMNlab propose r
 égulièrement des temps de sensibilisation et d’exploration avec notamm
 ent Matthieu Gameiro\, membre de la communauté.\n\nNous vous retrouverons
  pour un nouveau café dans le cadre de notre série de retours d’expér
 ience concrets : à partir d’un besoin exprimé par une équipe\, commen
 t le no-code a permis le déploiement de solution pertinente\, légère\, 
 dans un contexte de ressources restreintes ? Nous invitons des théâtres 
 à partager leur expérience\, de la formulation du besoin et des objectif
 s\, du développement au déploiement\, jusqu’au retour d’expérience 
 des équipes et des publics.\n\nPour ce deuxième café de la série\, le 
 jeudi 25 juin\, nous accueillerons\, Tanguy Guézo du Phénix autour de le
 ur usage de l'application Notion pour l’organisation du service communic
 ation et Alexandra Boëgler du Théâtre-Sénart qui nous présentera leur
  usage du no code au niveau de leur billetterie.\n\nLe tout en présence d
 e Matthieu Gameiro\, Responsable formation et Product builder no-code.\n_\
 nLes cafés TMNlab : 1h\, 1 sujet\, 1 fois par mois… minimum.\n\n\n\nCe 
 rendez-vous en visio est réservé aux membres à jour de leur adhésion (
 à titre individuel ou de leur structure). Nous sommes susceptibles de pro
 grammer des cafés supplémentaires en fonction de sujets soulevés par la
  communauté. Vous pouvez également en organiser en commençant par visit
 er cette page.\n\nMembres d'une structure adhérente ?\nPensez à passer l
 'info auprès des membres de votre équipe potentiellement intéressé.\n\
 nLe lien de connexion ainsi que le code secret figurent dans le courriel d
 e confirmation de votre inscription.
ATTACH;FMTTYPE=image/jpeg:https://www.tmnlab.com/wp-content/uploads/2026/0
 4/Cafe-TMNlab-2025.jpg
CATEGORIES:Un événement organisé par le TMNlab
LOCATION:https://us06web.zoom.us/j/86708863968
END:VEVENT
BEGIN:VTIMEZONE
TZID:Europe/Paris
X-LIC-LOCATION:Europe/Paris
BEGIN:DAYLIGHT
DTSTART:20260329T030000
TZOFFSETFROM:+0100
TZOFFSETTO:+0200
TZNAME:CEST
END:DAYLIGHT
END:VTIMEZONE
END:VCALENDAR