BEGIN:VCALENDAR
VERSION:2.0
PRODID:-//wp-events-plugin.com//7.2.3.1//EN
TZID:Europe/Paris
X-WR-TIMEZONE:Europe/Paris
BEGIN:VEVENT
UID:373@tmnlab.com
DTSTART;TZID=Europe/Paris:20251204T090000
DTEND;TZID=Europe/Paris:20251204T100000
DTSTAMP:20251126T152806Z
URL:https://www.tmnlab.com/events/cafe-tmnlab-etude-de-publics/
SUMMARY:Café TMNlab | études de publics - comment ? et d'abord... pourquo
 i ?
DESCRIPTION:Au programme\, ce jeudi 4 décembre : les études de publics\, 
 racontées par les lieux qui les ont menées récemment. Une discussion po
 ur nourrir une réflexion commune autour des objectifs\, des moyens et des
  protocoles pour faire connaissance ou suivre l'évolution de nos publics.
 \n\nUn café co-animé par Clément Coustenoble du TMNlab\, et Camille Vau
 trin du Théâtre Massalia\, et les retours d'expériences de :\n\n 	Cathe
 rine Zuccolo\, secrétaire générale – responsable du pôle public et 
 communication de La Passerelle\, scène nationale de Saint-Brieuc\n 	Lori
 ane Bedu\, Chargée de projets événementiels et partenariats culturels d
 e Grand Paris Sud\n 	\n\nParmi les questions :\n\n 	Pourquoi et dans quel 
 contexte ont-ils lancé cette étude ?\n 	Comment ont-ils conçu\, diffus
 é\, analysé l’étude ?\n 	Quels enseignements ? pour quelles actions c
 oncrètes ?\n 	Comment travailler en amont pour mutualiser les données d'
 enquête ?\n 	... et toutes vos questions !\n\nCe premier rendez-vous inau
 gure un cycle de cafés consacrés aux usages des publics et non publics 
 qui se poursuivra en février 2026 :\n\n 	05.02.26 : Prendre en compte les
  pratiques culturelles de la jeunesse\n 	12.02.26 : Les Français et le th
 éâtre : on est où en 2025 ? Réponse avec l’ASTP\n 	19.02.26 : Où et
  comment décide-t-on d’aller au théâtre ? De l’observation des prat
 iques à la stratégie com’ marketing\n\n_\nLes cafés TMNlab : 1h\, 1 s
 ujet\, 1 fois par mois… minimum.\n\n\n\nCe rendez-vous en visio est rés
 ervé aux membres à jour de leur adhésion (à titre individuel ou de leu
 r structure). Nous sommes susceptibles de programmer des cafés supplémen
 taires en fonction de sujets soulevés par la communauté. Vous pouvez ég
 alement en organiser en commençant par visiter cette page.\n\nMembres d'u
 ne structure adhérente ?\nPensez à passer l'info auprès des membres de 
 votre équipe potentiellement intéressé.\n\nLe lien de connexion ainsi q
 ue le code secret figurent dans le courriel de confirmation de votre inscr
 iption.
ATTACH;FMTTYPE=image/jpeg:https://www.tmnlab.com/wp-content/uploads/2025/1
 0/Cafe-TMNlab-2025.png
CATEGORIES:Un événement organisé par le TMNlab
LOCATION:https://us06web.zoom.us/j/83345293888
END:VEVENT
BEGIN:VTIMEZONE
TZID:Europe/Paris
X-LIC-LOCATION:Europe/Paris
BEGIN:STANDARD
DTSTART:20251026T020000
TZOFFSETFROM:+0200
TZOFFSETTO:+0100
TZNAME:CET
END:STANDARD
END:VTIMEZONE
END:VCALENDAR