BEGIN:VCALENDAR
VERSION:2.0
PRODID:-//wp-events-plugin.com//7.2.3.1//EN
TZID:Europe/Paris
X-WR-TIMEZONE:Europe/Paris
BEGIN:VEVENT
UID:387@tmnlab.com
DTSTART;TZID=Europe/Paris:20260212T090000
DTEND;TZID=Europe/Paris:20260212T100000
DTSTAMP:20260210T105410Z
URL:https://www.tmnlab.com/events/cafe-tmnlab-etude-astp-2025/
SUMMARY:Café TMNlab | Les Français et le théâtre : on est où en 2025 ?
  Réponse avec l'ASTP
DESCRIPTION:Comme chaque année depuis 2022\, l’Association pour le souti
 en du théâtre privé a missionné Médiamétrie pour son baromètre "Les
  Français et le théâtre".\n\nRendez-vous jeudi 12 février\, de 09h à 
 10h\, pour découvrir cette nouvelle vague de l'enquête et mettre à jour
  le profil et les pratiques des Français en matière de sortie au théât
 re au cours de la saison théâtrale 2024-25.\n\nLa quatrième vague du ba
 romètre ASTP "Les Français et le théâtre" a été menée par Médiamé
 trie du 22 au 30 avril 2025. L'enquête permet de suivre chaque année le 
 profil et les pratiques des Français en matière de sortie au théâtre\,
  avec un focus particulier sur les spectateurs de théâtre des 12 dernier
 s mois.\n\n26\,1 M de Français·es ont déclaré être allé·es au spect
 acle au cours des 12 derniers mois dont 11\,3 M ont fréquenté les théâ
 tres. Qui sont-ils/elles ? Comment la base de spectateurs­·trices évolu
 e-t-elle ces dernières années ? Quel est le déclencheur de leur venue a
 u théâtre ? Quel est le poids des media sociaux dans leur pratique de sp
 ectateur­·trices ? A quelle fréquence s’y rendent-ils/elles ? Quels s
 ont les sujets/contenus qui les attirent ou les repoussent ?\n\nLes résul
 tats du baromètre 2024-25 nous donnent des pistes intéressantes de réfl
 exion pour aborder la question de la relation aux publics.\n\nAvec : Anne-
 Claire Gourbier\, déléguée générale de l’ASTP\n\nCe rendez-vous est
  le 3e d'un cycle de cafés consacrés aux usages des publics et non publi
 cs :\n\n 	04.12.25 : Études de publics – comment ? et d’abord… pou
 rquoi ?\n 	05.02.26 : Prendre en compte les pratiques culturelles de la je
 unesse\n 	19.02.26 : Où et comment décide-t-on d’aller au théâtre ? 
 De l’observation des pratiques à la stratégie com’ marketing\n\n_\nL
 es cafés TMNlab : 1h\, 1 sujet\, 1 fois par mois… minimum.\n\n\n\nCe re
 ndez-vous en visio est réservé aux membres à jour de leur adhésion (à
  titre individuel ou de leur structure). Nous sommes susceptibles de progr
 ammer des cafés supplémentaires en fonction de sujets soulevés par la c
 ommunauté. Vous pouvez également en organiser en commençant par visiter
  cette page.\n\nMembres d'une structure adhérente ?\nPensez à passer l'i
 nfo auprès des membres de votre équipe potentiellement intéressé.\n\nL
 e lien de connexion ainsi que le code secret figurent dans le courriel de 
 confirmation de votre inscription.
ATTACH;FMTTYPE=image/jpeg:https://www.tmnlab.com/wp-content/uploads/2025/1
 1/Cafe-TMNlab-20251.png
CATEGORIES:Un événement organisé par le TMNlab
LOCATION:https://us06web.zoom.us/j/83326114941
END:VEVENT
BEGIN:VTIMEZONE
TZID:Europe/Paris
X-LIC-LOCATION:Europe/Paris
BEGIN:STANDARD
DTSTART:20251026T020000
TZOFFSETFROM:+0200
TZOFFSETTO:+0100
TZNAME:CET
END:STANDARD
END:VTIMEZONE
END:VCALENDAR