BEGIN:VCALENDAR
VERSION:2.0
PRODID:-//wp-events-plugin.com//7.2.3.1//EN
TZID:Europe/Paris
X-WR-TIMEZONE:Europe/Paris
BEGIN:VEVENT
UID:383@tmnlab.com
DTSTART;TZID=Europe/Paris;VALUE=DATE:20260121
DTEND;TZID=Europe/Paris;VALUE=DATE:20260123
DTSTAMP:20260116T154216Z
URL:https://www.tmnlab.com/events/biennales-internationales-du-spectacle-2
 026/
SUMMARY:Biennales Internationales du Spectacle 2026
DESCRIPTION:Malgré les menaces sur son existence et sur le secteur en gén
 éral\, les Biennales Internationales du Spectacle 2026 reviennent en janv
 ier à Nantes sous le thème Résistance et inspiration : une édition ess
 entielle.\n\n"Jamais la culture\, le spectacle vivant et celles et ceux qu
 i les font vivre n’auront été aussi attaqués : resserrement budgétai
 re\, crise de la diffusion\, polarisation idéologique\, montée des réfl
 exes illibéraux\, menaces sur la liberté d’expression. Des menaces qui
  n’ont pas manqué de frapper les BIS\, qui se tiennent grâce au soutie
 n et à l’enthousiasme de leurs participants\, exposants et partenaires 
 historiques. Dans ce contexte\, à quelques semaines des élections munici
 pales et un an de la Présidentielle\, cette édition des BIS s’annonce 
 sans doute comme la plus essentielle depuis leur création\, il y a plus d
 e 20 ans." Extrait de l'édito de Nicolas Marc à lire en entier sur bis20
 26.fr\n\nhttps://youtu.be/rTmRNUl6C_o\n\nPROGRAMMATION\n\nSessions et inte
 rventions TMNlab\n\nMercredi 21 janvier - 9h30\nMarketing digital et sobri
 été : et si on repartait des publics ?\n Salle GH de l’espace Wasabis 
 [infos]\n\nMercredi 21 janvier - 14h\nCoulisses numériques : comment conn
 ecter nos outils dans le spectacle vivant\nSalle : Cité des Congrès - sa
 lle M [infos]\n\nMercredi 21 janvier - 15h25\nUn usage éthique de l'IA es
 t-il possible dans le spectacle vivant ?\nSalle GH de l’espace Wasabis [
 infos]\n\nMercredi 21 janvier - 17h45\nJeunes et Spectacle Vivant : commen
 t le pass Culture accompagne la filière et la médiation ?\nSalle D [info
 s]\n\nMercredi 21 janvier - 18h30\nOpen TMNlab Nantes : un off des BIS\, u
 ne découverte joyeuse de Mixt\nChez Mixt / en savoir plus (inscription in
 dispensable ici)\n\nJeudi 22 janvier - 9h\nRendre accessible le parcours s
 pectateur.ice\, c’est possible ! L’exemple du Théâtre de Chaillot.\n
 Salle GH [infos]\n\nJeudi 22 janvier - 14h15\nRepenser nos environnements 
 numériques : interopérabilité (2025)\, IA et nouvelles coopérations da
 ns le spectacle vivant\nLieu Unique - Atelier 1 [infos]\n\nSessions et int
 erventions de membres de la Communauté\n(Écrivez à Bénédicte par emai
 l ou via le Discord pour ajouter les vôtres)\n\nMercredi 21 janvier - 2 s
 éances : 9h et 14h30\n1ere Rencontre pour l'emploi des personnes en situa
 tion de handicap dans la culture\nAvec Pascal Parsat\, expert Handicap - D
 iversité - Inclusivité chez Audiens\nCentre des expositions - Nantes Mé
 tropole [infos]\n\nMercredi 21 janvier - 11h50\nAdaptation du spectacle vi
 vant au changement climatique : prendre la mesure des défis et de l'urgen
 ce \nAvec Anne-Shifra Lévy-Grinbaum\, responsable RSO Odéon Théâtre de
  l'Europe\nSalle 200 de l’espace Wasabis [infos]\n\nMercredi 21 janvier 
 - 14h\nQuand les outils se parlent\, les idées circulent : l’interopér
 abilité en action\nAvec Nicolas Rosset\, cofondateur de Mapado\nSalle N [
 infos]\n\nMercredi 21 janvier - 14h\nPodcastick' : Matchs billetterie &amp
 \; échanges autour des pratiques\, des innovations et des enjeux du secte
 ur\n&#x1f449\; Jouez dès maintenant au match billetterie : https://podcas
 tick.bill-a.fr/\n&#x1f449\; Inscription obligatoire sur la plateforme Oand
 B\, nombre de créneaux limité\n\nJeudi 22 janvier - 9h\nÉtude de cas : 
 accessibilité &amp\; parcours spectateur.\nRendre accessible le parcours 
 du spectateur\, c’est possible ! L’exemple du Théâtre de Chaillot.\n
 Avec Éric Leite\, directeur communication\, billetterie et mécénat de C
 haillot - Théâtre national de la Dance et Corinne Lefebvre fondatrice et
  formatrice\, BILL-A\nSalle GH de l’espace Wasabis [infos]\n\nJeudi 22 j
 anvier - 10h30\nSignature\, tamponage et papotage autour de La billetterie
  des Éditions Centre national de la musique\nLibrairie engagée Les Bien-
 aimé.e.s [infos]\n\nJeudi 22 janvier - 11h\nVHSS / Handicap – Quelles r
 éalités ? Quels enjeux ?\nAvec Pascal Parsat\, expert Handicap - Diversi
 té - Inclusivité chez Audiens\nSalle J [infos]\n\nJeudi 22 janvier - 14h
 15\nAccès à l'art\, à la culture\, à l'éducation\, un service public 
 encore à défendre ? - Les Forces Musicales\, Scène Ensemble\, Syndeac (
 USEP-SV)\nAvec Alexandra Lacroix\, vice-présidente des Forces Musicales\,
  directrice générale d’Angers Nantes Opéra\nSalle BC [infos]\n\n&nbsp
 \;\n\nINSCRIPTION AUX BIS\n\nIl est temps de vous accréditer et d'organis
 er votre venue.\nhttps://www.bis2026.fr/je-maccredite-gratuitement-aux-bis
 -2026\n\n&nbsp\;\n\nLE OFF DU TMNLAB : Open TMNlab chez Mixt le 21 janvier
 \n\nUn apéritif grand ouvert pour permettre de se rencontrer et d’écha
 nger – en vrai – autour d’un intérêt commun et d’un verre. Et la
  découverte du Mixt\, ouvert après 3 ans de travaux\, en compagnie de sa
  directrice et de son équipe !\n\nInformations et inscriptions :\nhttps:/
 /www.tmnlab.com/events/open-tmnlab-nantes-un-off-des-bis-une-decouverte-jo
 yeuse-de-mixt/\n\n&nbsp\;
ATTACH;FMTTYPE=image/jpeg:https://www.tmnlab.com/wp-content/uploads/2025/1
 1/FireShot-Capture-001-Les-BIS-2026-a-Nantes-_-une-edition-essentielle-www
 .bis2026.fr_.png
CATEGORIES:Une intervention du TMNlab
LOCATION:La Cité Nantes Events Center\, 5 rue de Valmy\, Nantes\, 44000\, 
 France
GEO:47.2131428;-1.5427025999999842
X-APPLE-STRUCTURED-LOCATION;VALUE=URI;X-ADDRESS=5 rue de Valmy\, Nantes\, 4
 4000\, France;X-APPLE-RADIUS=100;X-TITLE=La Cité Nantes Events Center:geo
 :47.2131428,-1.5427025999999842
END:VEVENT
BEGIN:VTIMEZONE
TZID:Europe/Paris
X-LIC-LOCATION:Europe/Paris
BEGIN:STANDARD
DTSTART:20251026T020000
TZOFFSETFROM:+0200
TZOFFSETTO:+0100
TZNAME:CET
END:STANDARD
END:VTIMEZONE
END:VCALENDAR