BEGIN:VCALENDAR
VERSION:2.0
PRODID:-//wp-events-plugin.com//7.2.3.1//EN
TZID:Europe/Paris
X-WR-TIMEZONE:Europe/Paris
BEGIN:VEVENT
UID:50@tmnlab.com
DTSTART:20170721T140000Z
DTEND:20170721T160000Z
DTSTAMP:20170703T045951Z
URL:https://www.tmnlab.com/events/atelier-proarti-financement-participatif
 -cles-dune-collecte-reussie/
SUMMARY:Atelier Proarti : Financement participatif\, les clés d’une coll
 ecte réussie
DESCRIPTION:Le crowdfunding est aujourd’hui une ressource de financement 
 de plus en plus importante. Cependant\, réussir une collecte auprès de s
 on réseau nécessite de bien préparer sa démarche en se posant les bonn
 es questions : Quand se lancer ? Quel montant demander ? Quelle stratégie
  de communication adopter ? Quelles contreparties proposer ?\n\nAvec Alice
  Guillemet et Mathieu Davoust\, membres de l’équipe proarti.\n\nOrganis
 é par Proarti en partenariat avec l’ISTS Avignon et Avignon le OFF\n\nE
 n savoir plus et s'inscrire sur eventbrite.fr
ATTACH;FMTTYPE=image/jpeg:https://www.tmnlab.com/wp-content/uploads/2017/0
 7/https-cdn.evbuc_.com-images-32236077-193156032373-1-original.jpg
CATEGORIES:Un événement repéré pour vous
LOCATION:Village du OFF\, 1 Rue des Écoles\, Avignon\, 84000\, France
GEO:43.9475146;4.815068699999983
X-APPLE-STRUCTURED-LOCATION;VALUE=URI;X-ADDRESS=1 Rue des Écoles\, Avignon
 \, 84000\, France;X-APPLE-RADIUS=100;X-TITLE=Village du OFF:geo:43.9475146
 ,4.815068699999983
END:VEVENT
END:VCALENDAR