BEGIN:VCALENDAR
VERSION:2.0
PRODID:-//wp-events-plugin.com//7.2.3.1//EN
TZID:Europe/Paris
X-WR-TIMEZONE:Europe/Paris
BEGIN:VEVENT
UID:145@tmnlab.com
DTSTART;TZID=Europe/Paris:20221020T140000
DTEND;TZID=Europe/Paris:20221020T153000
DTSTAMP:20220912T204757Z
URL:https://www.tmnlab.com/events/assises-nationales-des-dac-de-la-transfo
 rmation-de-la-culture-a-la-culture-de-la-transformation-zoom-sur-culture-e
 t-numerique-le-defi-dune-double-transformation-engagee/
SUMMARY:Assises Nationales des DAC : De la transformation de la culture à 
 la culture de la transformation | Zoom sur : "Culture et numérique : le d
 éfi d’une double transformation engagée"
DESCRIPTION:Pour leur 6e édition\, les 20 et 21 octobre 2022 à Sète\, le
 s Assises Nationales des DAC invitent pour la seconde fois le TMNlab à in
 tervenir. Les collectivités locales ont un rôle majeur à jouer dans les
  transformations en cours\, l'equipe du TMNlab est heureuse de participer 
 à ces temps d'échange et de faire le lien entre les institutions culture
 lles et les acteurs de politiques culturelles locales.\n\nPlusieurs tables
 -rondes\, conférences et ateliers abordent les enjeux de la transformatio
 n numérique. Le programme complet est à retrouver sur leur site.\n\nNous
  relayons ici l'intervention du TMNlab.\nConférence : Culture et numériq
 ue : le défi d’une double transformation engagée\nL’explosion d’In
 ternet et la numérisation de nos quotidiens a fondamentalement transform
 é nos sociétés d’une façon qui était encore inimaginable à l’aub
 e du XXIe siècle. Dans ce contexte de « révolutions numériques »\, de
 s artistes ( plasticien.e.s\, auteur.es\, vidéastes\, chorégraphes\, sc
 énographes\, créateurs.trices sonores…) se sont frayé un chemin singu
 lier\, instaurant un dialogue nouveau entre création et numérique / tech
 nologies digitales.\n\nMais\, au-delà de cette appropriation par les arti
 stes\, la numérisation de la société embrasse\, de manière plus global
 e\, d’autres situations\, contextes et formats d’expression culturelle
 . Opérateurs et institutions se transforment : la médiation culturelle e
 st “augmentée”\, les enjeux changent (dématérialisation des support
 s\, données\, découvrabilité\, nouvelles pratiques des publics en ligne
 \, production hybride…). Les Microfolies ou le Pass culture dessinent un
  nouveau paysage possible des politiques culturelles numériques. Les deux
  années de pandémie\, en donnant lieu à des distanciations inédites en
 tre émetteur et récepteur de produits culturels\, ont catalysé ce proce
 ssus déjà bien engagé de transformation des usages culturels.\n\nEntre 
 numérique comme expression artistique et digitalisation des « vies cultu
 relles »\, les regards croisés de deux expertes nous aideront à précis
 er nos propres cheminements et à mieux appréhender ces « cultures numé
 riques ».\n\nPar Anne Le Gall\, présidente du TMNlab\,\net Céline Berth
 oumieux\, présidente de Hacnum\n\n&nbsp\;
ATTACH;FMTTYPE=image/jpeg:https://www.tmnlab.com/wp-content/uploads/2022/0
 9/626fe31e8503c05013f65aab-registrationfiletexteditor-1655298409650-visuel
 assisesprovisoire.jpg
CATEGORIES:Une intervention du TMNlab
END:VEVENT
BEGIN:VTIMEZONE
TZID:Europe/Paris
X-LIC-LOCATION:Europe/Paris
BEGIN:DAYLIGHT
DTSTART:20220327T030000
TZOFFSETFROM:+0100
TZOFFSETTO:+0200
TZNAME:CEST
END:DAYLIGHT
END:VTIMEZONE
END:VCALENDAR