BEGIN:VCALENDAR
VERSION:2.0
PRODID:-//wp-events-plugin.com//7.2.3.1//EN
TZID:Europe/Paris
X-WR-TIMEZONE:Europe/Paris
BEGIN:VEVENT
UID:353@tmnlab.com
DTSTART;TZID=Europe/Paris:20250901T120000
DTEND;TZID=Europe/Paris:20250901T123000
DTSTAMP:20250829T110723Z
URL:https://www.tmnlab.com/events/30-min-chrono-session-daccueil-et-de-mis
 e-a-niveau-3/
SUMMARY:30 min chrono | Session d'accueil... et de mise à niveau !
DESCRIPTION:Premiers pas ou besoin de se remettre dans le bain  ? Les sess
 ions 30 min chrono vous permettre de revoir un point précis du fonctionne
 ment de la communauté et de son écosystème numérique avec Anne\, avec 
 Clément\, avec des habitué.es de la communauté - ou avec les trois en m
 ême temps.\n\nChaque premier lundi du mois\, on accueille les nouvelles e
 t nouveaux\, on rafraîchit les anciennes et anciens :\n\n 	Comment je m'y
  retrouve ?\n 	Comment je partage ma veille ?\n 	Comment j'échange avec l
 es autres ?\n 	Comment je rejoins un projet ou un groupe de travail ?\n 	C
 omment je partage des idées ?\n 	Et toutes les questions que vous vous po
 sez !\n\n- -\n\nCe nouveau rendez-vous régulier permet de réviser vos cl
 assiques ou d'accueillir les membres qui nous rejoignent chaque mois. N'h
 ésitez pas à bloquer ces 30 minutes dans votre agenda !
ATTACH;FMTTYPE=image/jpeg:https://www.tmnlab.com/wp-content/uploads/2025/0
 7/30minchrono-2025.png
CATEGORIES:Un événement organisé par le TMNlab
LOCATION:https://us06web.zoom.us/j/9523033517
END:VEVENT
BEGIN:VTIMEZONE
TZID:Europe/Paris
X-LIC-LOCATION:Europe/Paris
BEGIN:DAYLIGHT
DTSTART:20250330T030000
TZOFFSETFROM:+0100
TZOFFSETTO:+0200
TZNAME:CEST
END:DAYLIGHT
END:VTIMEZONE
END:VCALENDAR