BEGIN:VCALENDAR
VERSION:2.0
PRODID:-//wp-events-plugin.com//7.2.3.1//EN
TZID:Europe/Paris
X-WR-TIMEZONE:Europe/Paris
BEGIN:VEVENT
UID:423@tmnlab.com
DTSTART;TZID=Europe/Paris:20260428T120000
DTEND;TZID=Europe/Paris:20260428T123000
DTSTAMP:20260415T103555Z
URL:https://www.tmnlab.com/events/30-min-chrono-publier-des-articles-et-ev
 enements-3/
SUMMARY:30 min chrono | Publier des articles et événements
DESCRIPTION:Premiers pas ou besoin de se remettre dans le bain  ? Les sess
 ions 30 min chrono vous permettre de revoir un point précis du fonctionne
 ment de la communauté et de son écosystème numérique avec Anne\, avec 
 Clément\, avec des habitué.es de la communauté – ou avec les trois en
  même temps.\n\nAujourd'hui\, on parle de la façon de partager votre vei
 lle ou les événements que vous avez repéré :\n\n 	Qui publie sur le si
 te aujourd'hui ?\n 	Puis-je entièrement publier seul.e ?\n 	Quels sont le
 s différents types de publication ?\n 	Y a-t-il des règles à respecter 
 ?\n 	Comment marche la publication ?\n 	Pourquoi c'est important de docume
 nter cela sur notre site ?\n 	Comment ensuite les contenus sont-ils diffus
 és ?\n 	Et si je veux contribuer de façon régulière ?\n 	Et toutes les
  questions que vous vous posez !\n\nRendez-vous en visio dans le Discord d
 e la Communauté TMNlab !\nDans le canal dédié #Sessions_30min-chrono (C
 atégorie Vie du réseau)\nLien direct dans le mail de confirmation\nEt av
 ant\, si ce n'est pas déjà fait\, rejoignez notre Discord.\n\n\n- -\n\nR
 endez-vous réguliers\, les Sessions 30 min chrono permettent de réviser 
 vos classiques ou d'accueillir les membres qui nous rejoignent chaque mois
 . N'hésitez pas à bloquer ces 30 minutes dans votre agenda !\n\n&nbsp\;
ATTACH;FMTTYPE=image/jpeg:https://www.tmnlab.com/wp-content/uploads/2025/0
 7/30min-chrono-Publication.png
CATEGORIES:Un événement organisé par le TMNlab
LOCATION:https://www.tmnlab.com/groupes-de-travail/
END:VEVENT
BEGIN:VTIMEZONE
TZID:Europe/Paris
X-LIC-LOCATION:Europe/Paris
BEGIN:DAYLIGHT
DTSTART:20260329T030000
TZOFFSETFROM:+0100
TZOFFSETTO:+0200
TZNAME:CEST
END:DAYLIGHT
END:VTIMEZONE
END:VCALENDAR