BEGIN:VCALENDAR
VERSION:2.0
PRODID:-//wp-events-plugin.com//7.2.3.1//EN
TZID:Europe/Paris
X-WR-TIMEZONE:Europe/Paris
BEGIN:VEVENT
UID:223@tmnlab.com
DTSTART;TZID=Europe/Paris:20240215T090000
DTEND;TZID=Europe/Paris:20240215T100000
DTSTAMP:20240206T090849Z
URL:https://www.tmnlab.com/events/%f0%9f%94%93%ef%b8%8f-cafe-tmnlab-numeri
 que-responsable-et-spectacle-vivant-etat-des-lieux-pour-2024/
SUMMARY:&#x1f513\;&#xfe0f\; Café TMNlab : Numérique responsable et specta
 cle vivant\, état des lieux pour 2024
DESCRIPTION:Depuis 2019\, le TMNlab porte une réflexion autour du numériq
 ue responsable concrétisée lors d’une Rencontre TMNlab dédiée en 202
 0 puis à travers divers rendez-vous. En 2023\, un living lab Numérique s
 itué mené autour de l'économie circulaire donne lieu un projet Alternat
 ives vertes #France2030 coporté avec RESSAC. En 2024\, la Communauté dé
 veloppe une série de rendez-vous à ce sujet\, de façon toujours transve
 rsale et ancrée dans la réalité des lieux.\n\nCe Café vise à faire un
  état des lieux des pratiques et des perspectives en la matière pour org
 aniser le travail au sein de la communauté.\n\nIl rassemblera :\n\n 	des 
 membres du TMNlab particulièrement intéressés par le sujet\n 	d'autres 
 membres du TMNlab plus experts venus partagés leur vision en la matière 
 pour 2024\n\nMerci à :\n\n 	Muriel Rapy\, consultante et formatrice\, anc
 ienne professionnelle du spectacle vivant\n 	Camille Pène\, cofondatrice 
 des Augures et de Les Augures Lab Numérique Responsable\n 	Gwendolenn Sha
 rp fondatrice de The Green Room\, qui a récemment publié STOMP\n 	Charl
 ène Legendre-Drone\, directrice de la Réserve des arts\, pour évoquer l
 e projet de ressourcerie hybride développé avec le RESSAC et Récupscèn
 e\, avec de nombreux partenaires\, candidat à Alternatives vertes\n\n_\n\
 nLes cafés TMNlab : 1h\, 1 sujet\, 1 fois par mois.\nCe rendez-vous en vi
 sio est réservé aux membres à jour de leur adhésion (à titre individu
 el ou de leur structure). Nous sommes susceptibles de programmer des café
 s supplémentaires en fonction de sujets soulevés par la communauté.\n\n
 Le lien de connexion ainsi que le code secret figurent dans le courriel de
  confirmation de votre inscription.
ATTACH;FMTTYPE=image/jpeg:https://www.tmnlab.com/wp-content/uploads/2023/1
 2/Cafe-TMNlab.png
CATEGORIES:Un événement organisé par le TMNlab
LOCATION:https://us06web.zoom.us/j/87656539502
END:VEVENT
BEGIN:VTIMEZONE
TZID:Europe/Paris
X-LIC-LOCATION:Europe/Paris
BEGIN:STANDARD
DTSTART:20231029T020000
TZOFFSETFROM:+0200
TZOFFSETTO:+0100
TZNAME:CET
END:STANDARD
END:VTIMEZONE
END:VCALENDAR